BEGIN:VCALENDAR
VERSION:2.0
PRODID:-//Rotary District 7180 - ECPv6.6.4.2//NONSGML v1.0//EN
CALSCALE:GREGORIAN
METHOD:PUBLISH
X-WR-CALNAME:Rotary District 7180
X-ORIGINAL-URL:https://cny7180youthexchange.org
X-WR-CALDESC:Events for Rotary District 7180
REFRESH-INTERVAL;VALUE=DURATION:PT1H
X-Robots-Tag:noindex
X-PUBLISHED-TTL:PT1H
BEGIN:VTIMEZONE
TZID:UTC
BEGIN:STANDARD
TZOFFSETFROM:+0000
TZOFFSETTO:+0000
TZNAME:UTC
DTSTART:20220101T000000
END:STANDARD
END:VTIMEZONE
BEGIN:VEVENT
DTSTART;TZID=UTC:20241109T090000
DTEND;TZID=UTC:20241109T170000
DTSTAMP:20260422T090909
CREATED:20241013T234145Z
LAST-MODIFIED:20241013T234145Z
UID:188-1731142800-1731171600@cny7180youthexchange.org
SUMMARY:CNY D.7180 RYE District Interviews - Saturday November 9th 2024 in Cortland\, NY
DESCRIPTION:District Interviews for outbound students applying to the exchange program for exchange year 2025-2026. \nThere are 2 interview sessions\, students and their parents will only need to attend one of these sessions. \nPassport Fair will be open during the day to provide applicants and their families access to host country information and interaction with students from these countries currently hosted in CNY. \nInterview Sessions: Date and Location \nSaturday\, November 2:  Messiah Lutheran Church; 2850 Guilderland Avenue; Schenectady\, NY\nSaturday\, November 9:  Cortland Junior Senior High School; 8 Valley View Dr; Cortland\, NY
URL:https://cny7180youthexchange.org/event/cny-d-7180-rye-district-interviews-saturday-november-9th-2024-in-cortland-ny/
LOCATION:Cortland Junior Senior High School\, 8 Valley View Dr\, Cortland\, NY\, United States
END:VEVENT
BEGIN:VEVENT
DTSTART;TZID=UTC:20241102T090000
DTEND;TZID=UTC:20241102T170000
DTSTAMP:20260422T090909
CREATED:20240814T013123Z
LAST-MODIFIED:20241013T234115Z
UID:184-1730538000-1730566800@cny7180youthexchange.org
SUMMARY:CNY D.7180 RYE District Interviews - Saturday November 2nd 2024 in Schenectady\, NY
DESCRIPTION:District Interviews for outbound students applying to the exchange program for exchange year 2025-2026. \nThere are 2 interview sessions\, students and their parents will only need to attend one of these sessions. \nPassport Fair will be open during the day to provide applicants and their families access to host country information and interaction with students from these countries currently hosted in CNY. \nInterview Sessions: Date and Location \nSaturday\, November 2:  Messiah Lutheran Church; 2850 Guilderland Avenue; Schenectady\, NY\nSaturday\, November 9:  Cortland Junior Senior High School; 8 Valley View Dr; Cortland\, NY
URL:https://cny7180youthexchange.org/event/cny-d-7180-rye-district-interviews-outbound-applicants-2025-2026/
LOCATION:Messiah Lutheran Church\, 2850 Guilderland Avenue\, Schenectady\, NY\, United States
END:VEVENT
BEGIN:VEVENT
DTSTART;TZID=UTC:20241015T080000
DTEND;TZID=UTC:20241015T170000
DTSTAMP:20260422T090909
CREATED:20240814T012548Z
LAST-MODIFIED:20240814T012548Z
UID:183-1728979200-1729011600@cny7180youthexchange.org
SUMMARY:Club Recommendation Forms Due: Tuesday October 15th
DESCRIPTION:All Rotary clubs must submit club recommendations forms for outbound RYE student applicants 2025-2026. \nForms will be sent to club YEO’s by Aug 31rst.
URL:https://cny7180youthexchange.org/event/club-recommendation-forms-due-tuesday-october-15th/
LOCATION:NY
END:VEVENT
BEGIN:VEVENT
DTSTART;TZID=UTC:20240930T200000
DTEND;TZID=UTC:20240930T233000
DTSTAMP:20260422T090909
CREATED:20240814T012314Z
LAST-MODIFIED:20240814T012314Z
UID:182-1727726400-1727739000@cny7180youthexchange.org
SUMMARY:RYE Student Applications Due - Outbound 2025-2026
DESCRIPTION:All applications for outbound RYE students are due September 30th. \nPlease contact your local Rotary club with any questions.
URL:https://cny7180youthexchange.org/event/rye-student-applications-due-outbound-2025-2026/
LOCATION:NY
END:VEVENT
BEGIN:VEVENT
DTSTART;TZID=UTC:20240812T080000
DTEND;TZID=UTC:20240814T170000
DTSTAMP:20260422T090909
CREATED:20240814T012115Z
LAST-MODIFIED:20240814T012115Z
UID:181-1723449600-1723654800@cny7180youthexchange.org
SUMMARY:RYE Application Process Open
DESCRIPTION:The Rotary Youth Exchange outbound application process for Rotary CNY D.7180 is now open. \nApplications are due by Monday September 30th \nPlease apply through the links on this site or contact your local Rotary Club for assistance.
URL:https://cny7180youthexchange.org/event/rye-application-process-open/
LOCATION:NY
END:VEVENT
BEGIN:VEVENT
DTSTART;VALUE=DATE:20230617
DTEND;VALUE=DATE:20230619
DTSTAMP:20260422T090909
CREATED:20220822T133020Z
LAST-MODIFIED:20220822T133020Z
UID:143-1686960000-1687132799@cny7180youthexchange.org
SUMMARY:Fourth Outbound Orientation
DESCRIPTION:
URL:https://cny7180youthexchange.org/event/fourth-outbound-orientation/
LOCATION:NY
END:VEVENT
BEGIN:VEVENT
DTSTART;VALUE=DATE:20230513
DTEND;VALUE=DATE:20230514
DTSTAMP:20260422T090909
CREATED:20220822T132948Z
LAST-MODIFIED:20220822T132948Z
UID:142-1683936000-1684022399@cny7180youthexchange.org
SUMMARY:Third Outbound Orientation
DESCRIPTION:
URL:https://cny7180youthexchange.org/event/third-outbound-orientation/
LOCATION:NY
END:VEVENT
BEGIN:VEVENT
DTSTART;VALUE=DATE:20230401
DTEND;VALUE=DATE:20230402
DTSTAMP:20260422T090909
CREATED:20220822T132758Z
LAST-MODIFIED:20220822T132758Z
UID:141-1680307200-1680393599@cny7180youthexchange.org
SUMMARY:Second Outbound Orientation
DESCRIPTION:
URL:https://cny7180youthexchange.org/event/second-outbound-orientation/
LOCATION:NY
END:VEVENT
BEGIN:VEVENT
DTSTART;VALUE=DATE:20230211
DTEND;VALUE=DATE:20230212
DTSTAMP:20260422T090909
CREATED:20220822T132729Z
LAST-MODIFIED:20220822T132729Z
UID:140-1676073600-1676073600@cny7180youthexchange.org
SUMMARY:First Outbound Orientation
DESCRIPTION:
URL:https://cny7180youthexchange.org/event/first-outbound-orientation/
LOCATION:NY
END:VEVENT
BEGIN:VEVENT
DTSTART;VALUE=DATE:20230114
DTEND;VALUE=DATE:20230116
DTSTAMP:20260422T090909
CREATED:20220822T131932Z
LAST-MODIFIED:20220822T131932Z
UID:139-1673654400-1673827199@cny7180youthexchange.org
SUMMARY:Interviews of long term exchange student applicants
DESCRIPTION:
URL:https://cny7180youthexchange.org/event/interviews-of-long-term-exchange-student-applicants/
LOCATION:NY
END:VEVENT
BEGIN:VEVENT
DTSTART;VALUE=DATE:20221231
DTEND;VALUE=DATE:20230101
DTSTAMP:20260422T090909
CREATED:20220822T131853Z
LAST-MODIFIED:20220822T131853Z
UID:138-1672444800-1672531199@cny7180youthexchange.org
SUMMARY:Deadline for long term exchange student applications
DESCRIPTION:
URL:https://cny7180youthexchange.org/event/deadline-for-long-term-exchange-student-applications/
LOCATION:NY
END:VEVENT
END:VCALENDAR